BEGIN:VCALENDAR
VERSION:2.0
PRODID:-//Staufer Chöre Lorch - ECPv6.15.17//NONSGML v1.0//EN
CALSCALE:GREGORIAN
METHOD:PUBLISH
X-WR-CALNAME:Staufer Chöre Lorch
X-ORIGINAL-URL:https://www.staufer-choere-lorch.de
X-WR-CALDESC:Veranstaltungen für Staufer Chöre Lorch
REFRESH-INTERVAL;VALUE=DURATION:PT1H
X-Robots-Tag:noindex
X-PUBLISHED-TTL:PT1H
BEGIN:VTIMEZONE
TZID:Europe/Berlin
BEGIN:DAYLIGHT
TZOFFSETFROM:+0100
TZOFFSETTO:+0200
TZNAME:CEST
DTSTART:20250330T010000
END:DAYLIGHT
BEGIN:STANDARD
TZOFFSETFROM:+0200
TZOFFSETTO:+0100
TZNAME:CET
DTSTART:20251026T010000
END:STANDARD
BEGIN:DAYLIGHT
TZOFFSETFROM:+0100
TZOFFSETTO:+0200
TZNAME:CEST
DTSTART:20260329T010000
END:DAYLIGHT
BEGIN:STANDARD
TZOFFSETFROM:+0200
TZOFFSETTO:+0100
TZNAME:CET
DTSTART:20261025T010000
END:STANDARD
BEGIN:DAYLIGHT
TZOFFSETFROM:+0100
TZOFFSETTO:+0200
TZNAME:CEST
DTSTART:20270328T010000
END:DAYLIGHT
BEGIN:STANDARD
TZOFFSETFROM:+0200
TZOFFSETTO:+0100
TZNAME:CET
DTSTART:20271031T010000
END:STANDARD
END:VTIMEZONE
BEGIN:VEVENT
DTSTART;TZID=Europe/Berlin:20260517T170000
DTEND;TZID=Europe/Berlin:20260517T180000
DTSTAMP:20260420T113608
CREATED:20260301T090030Z
LAST-MODIFIED:20260301T090030Z
UID:648-1779037200-1779040800@www.staufer-choere-lorch.de
SUMMARY:Schelmenklänge singen auf der Landesgartenschau
DESCRIPTION:wir haben die Möglichkeit am 17. Mai um 17.00 Uhr bei der Landesgartenschau aufzutreten
URL:https://www.staufer-choere-lorch.de/event/schelmenklaenge-singen-auf-der-landesgartenschau/
END:VEVENT
BEGIN:VEVENT
DTSTART;TZID=Europe/Berlin:20260718T170000
DTEND;TZID=Europe/Berlin:20260718T180000
DTSTAMP:20260420T113608
CREATED:20260301T090238Z
LAST-MODIFIED:20260301T090238Z
UID:650-1784394000-1784397600@www.staufer-choere-lorch.de
SUMMARY:Popchörle singt auf der Landesgartenschau
DESCRIPTION:
URL:https://www.staufer-choere-lorch.de/event/popchoerle-singt-auf-der-landesgartenschau/
LOCATION:Landesgartenschau Ellwangen
END:VEVENT
BEGIN:VEVENT
DTSTART;TZID=Europe/Berlin:20261128T150000
DTEND;TZID=Europe/Berlin:20261129T170000
DTSTAMP:20260420T113608
CREATED:20260301T152501Z
LAST-MODIFIED:20260301T152501Z
UID:662-1795878000-1795971600@www.staufer-choere-lorch.de
SUMMARY:Weihnachtsmarkt in Lorch
DESCRIPTION:
URL:https://www.staufer-choere-lorch.de/event/weihnachtsmarkt-in-lorch/
LOCATION:Oria Platz Lorch\, Lorch\, 73547
END:VEVENT
BEGIN:VEVENT
DTSTART;TZID=Europe/Berlin:20261212T173000
DTEND;TZID=Europe/Berlin:20261212T183000
DTSTAMP:20260420T113608
CREATED:20260301T090518Z
LAST-MODIFIED:20260301T090518Z
UID:653-1797096600-1797100200@www.staufer-choere-lorch.de
SUMMARY:Adventskonzert
DESCRIPTION:
URL:https://www.staufer-choere-lorch.de/event/adventskonzert-2/
LOCATION:Katholische Kirche Lorch
END:VEVENT
END:VCALENDAR